Package: STRINGdb Version: 2.18.0 Command: /home/biocbuild/bbs-3.20-bioc/R/bin/R CMD build --keep-empty-dirs --no-resave-data --md5 STRINGdb StartedAt: 2025-02-03 19:31:55 -0500 (Mon, 03 Feb 2025) EndedAt: 2025-02-03 19:35:59 -0500 (Mon, 03 Feb 2025) EllapsedTime: 244.2 seconds RetCode: 0 Status: OK PackageFile: STRINGdb_2.18.0.tar.gz PackageFileSize: 9.951 MiB