Package: STRINGdb Version: 2.18.0 Command: chmod a+r STRINGdb -R && F:\biocbuild\bbs-3.20-bioc\R\bin\R.exe CMD build --keep-empty-dirs --no-resave-data STRINGdb StartedAt: 2025-02-03 22:27:28 -0500 (Mon, 03 Feb 2025) EndedAt: 2025-02-03 22:31:44 -0500 (Mon, 03 Feb 2025) EllapsedTime: 255.4 seconds RetCode: 0 Status: OK PackageFile: STRINGdb_2.18.0.tar.gz PackageFileSize: 9.872 MiB