Package: STRINGdb Version: 2.18.0 Command: /home/biocbuild/R/R/bin/R CMD INSTALL STRINGdb StartedAt: 2025-02-03 20:35:05 -0000 (Mon, 03 Feb 2025) EndedAt: 2025-02-03 20:35:11 -0000 (Mon, 03 Feb 2025) EllapsedTime: 6.1 seconds RetCode: 0 Status: OK