Package: SUITOR Version: 1.8.0 Command: /Library/Frameworks/R.framework/Resources/bin/R CMD check --install=check:SUITOR.install-out.txt --library=/Library/Frameworks/R.framework/Resources/library --no-vignettes --timings SUITOR_1.8.0.tar.gz StartedAt: 2025-02-05 12:07:21 -0500 (Wed, 05 Feb 2025) EndedAt: 2025-02-05 12:08:20 -0500 (Wed, 05 Feb 2025) EllapsedTime: 58.8 seconds RetCode: 0 Status: WARNINGS CheckDir: SUITOR.Rcheck Warnings: 1