Package: SUITOR Version: 1.8.0 Command: /Library/Frameworks/R.framework/Resources/bin/R CMD INSTALL SUITOR StartedAt: 2025-02-10 15:59:01 -0500 (Mon, 10 Feb 2025) EndedAt: 2025-02-10 15:59:08 -0500 (Mon, 10 Feb 2025) EllapsedTime: 7.0 seconds RetCode: 0 Status: OK