Package: SUITOR Version: 1.8.0 Command: rm -rf SUITOR.buildbin-libdir && mkdir SUITOR.buildbin-libdir && F:\biocbuild\bbs-3.20-bioc\R\bin\R.exe CMD INSTALL --build --library=SUITOR.buildbin-libdir SUITOR_1.8.0.tar.gz StartedAt: 2025-02-11 09:36:31 -0500 (Tue, 11 Feb 2025) EndedAt: 2025-02-11 09:36:48 -0500 (Tue, 11 Feb 2025) EllapsedTime: 17.3 seconds RetCode: 0 Status: OK PackageFile: SUITOR_1.8.0.zip PackageFileSize: 314.4 KiB