Package: SVMDO Version: 1.6.0 Command: /Library/Frameworks/R.framework/Resources/bin/R CMD check --install=check:SVMDO.install-out.txt --library=/Library/Frameworks/R.framework/Resources/library --no-vignettes --timings SVMDO_1.6.0.tar.gz StartedAt: 2025-02-05 12:16:52 -0500 (Wed, 05 Feb 2025) EndedAt: 2025-02-05 12:23:28 -0500 (Wed, 05 Feb 2025) EllapsedTime: 396.2 seconds RetCode: 0 Status: OK CheckDir: SVMDO.Rcheck Warnings: 0