Package: SVMDO Version: 1.6.0 Command: rm -rf SVMDO.buildbin-libdir && mkdir SVMDO.buildbin-libdir && /Users/biocbuild/BBS/utils/build-universal.sh SVMDO_1.6.0.tar.gz /Library/Frameworks/R.framework/Resources/bin/R SVMDO.buildbin-libdir StartedAt: 2025-02-11 14:40:44 -0500 (Tue, 11 Feb 2025) EndedAt: 2025-02-11 14:42:14 -0500 (Tue, 11 Feb 2025) EllapsedTime: 90.2 seconds RetCode: 0 Status: OK PackageFile: SVMDO_1.6.0.tgz PackageFileSize: 2.36 MiB