Package: SVMDO Version: 1.6.0 Command: /Library/Frameworks/R.framework/Resources/bin/R CMD check --install=check:SVMDO.install-out.txt --library=/Library/Frameworks/R.framework/Resources/library --no-vignettes --timings SVMDO_1.6.0.tar.gz StartedAt: 2025-02-11 11:18:18 -0500 (Tue, 11 Feb 2025) EndedAt: 2025-02-11 11:34:34 -0500 (Tue, 11 Feb 2025) EllapsedTime: 975.9 seconds RetCode: 0 Status: OK CheckDir: SVMDO.Rcheck Warnings: 0