Package: SVMDO Version: 1.6.0 Command: /home/biocbuild/R/R/bin/R CMD build --keep-empty-dirs --no-resave-data SVMDO StartedAt: 2025-02-04 03:24:54 -0000 (Tue, 04 Feb 2025) EndedAt: 2025-02-04 03:25:52 -0000 (Tue, 04 Feb 2025) EllapsedTime: 58.1 seconds RetCode: 0 Status: OK PackageFile: SVMDO_1.6.0.tar.gz PackageFileSize: 2.403 MiB