Package: SVMDO Version: 1.6.0 Command: /home/biocbuild/R/R/bin/R CMD check --install=check:SVMDO.install-out.txt --library=/home/biocbuild/R/R/site-library --no-vignettes --timings SVMDO_1.6.0.tar.gz StartedAt: 2025-02-04 11:33:45 -0000 (Tue, 04 Feb 2025) EndedAt: 2025-02-04 11:39:24 -0000 (Tue, 04 Feb 2025) EllapsedTime: 338.5 seconds RetCode: 0 Status: OK CheckDir: SVMDO.Rcheck Warnings: 0