Package: SWATH2stats Version: 1.36.0 Command: rm -rf SWATH2stats.buildbin-libdir && mkdir SWATH2stats.buildbin-libdir && /Users/biocbuild/BBS/utils/build-universal.sh SWATH2stats_1.36.0.tar.gz /Library/Frameworks/R.framework/Resources/bin/R SWATH2stats.buildbin-libdir StartedAt: 2025-02-05 18:03:00 -0500 (Wed, 05 Feb 2025) EndedAt: 2025-02-05 18:03:21 -0500 (Wed, 05 Feb 2025) EllapsedTime: 21.5 seconds RetCode: 0 Status: OK PackageFile: SWATH2stats_1.36.0.tgz PackageFileSize: 3.164 MiB