Package: SWATH2stats Version: 1.36.0 Command: /Library/Frameworks/R.framework/Resources/bin/R CMD INSTALL SWATH2stats StartedAt: 2025-01-30 16:24:08 -0500 (Thu, 30 Jan 2025) EndedAt: 2025-01-30 16:24:28 -0500 (Thu, 30 Jan 2025) EllapsedTime: 19.9 seconds RetCode: 0 Status: OK