Package: SWATH2stats Version: 1.36.0 Command: /home/biocbuild/R/R/bin/R CMD build --keep-empty-dirs --no-resave-data SWATH2stats StartedAt: 2025-01-31 03:05:13 -0000 (Fri, 31 Jan 2025) EndedAt: 2025-01-31 03:06:09 -0000 (Fri, 31 Jan 2025) EllapsedTime: 56.0 seconds RetCode: 0 Status: OK PackageFile: SWATH2stats_1.36.0.tar.gz PackageFileSize: 3.015 MiB