Package: SWATH2stats Version: 1.36.0 Command: /home/biocbuild/R/R/bin/R CMD INSTALL SWATH2stats StartedAt: 2025-01-30 20:34:26 -0000 (Thu, 30 Jan 2025) EndedAt: 2025-01-30 20:34:47 -0000 (Thu, 30 Jan 2025) EllapsedTime: 20.9 seconds RetCode: 0 Status: OK