Package: Scale4C Version: 1.28.0 Command: rm -rf Scale4C.buildbin-libdir && mkdir Scale4C.buildbin-libdir && /Users/biocbuild/BBS/utils/build-universal.sh Scale4C_1.28.0.tar.gz /Library/Frameworks/R.framework/Resources/bin/R Scale4C.buildbin-libdir StartedAt: 2025-02-05 17:37:52 -0500 (Wed, 05 Feb 2025) EndedAt: 2025-02-05 17:38:30 -0500 (Wed, 05 Feb 2025) EllapsedTime: 38.5 seconds RetCode: 0 Status: OK PackageFile: Scale4C_1.28.0.tgz PackageFileSize: 2.141 MiB