Package: Scale4C Version: 1.28.0 Command: /Library/Frameworks/R.framework/Resources/bin/R CMD build --keep-empty-dirs --no-resave-data Scale4C StartedAt: 2025-02-03 21:57:14 -0500 (Mon, 03 Feb 2025) EndedAt: 2025-02-03 22:01:08 -0500 (Mon, 03 Feb 2025) EllapsedTime: 234.6 seconds RetCode: 0 Status: OK PackageFile: Scale4C_1.28.0.tar.gz PackageFileSize: 4.9 MiB