Package: Scale4C Version: 1.28.0 Command: /Library/Frameworks/R.framework/Resources/bin/R CMD INSTALL Scale4C StartedAt: 2025-02-10 15:42:20 -0500 (Mon, 10 Feb 2025) EndedAt: 2025-02-10 15:43:25 -0500 (Mon, 10 Feb 2025) EllapsedTime: 65.0 seconds RetCode: 0 Status: OK