Package: Scale4C Version: 1.28.0 Command: /home/biocbuild/bbs-3.20-bioc/R/bin/R CMD INSTALL Scale4C StartedAt: 2025-02-03 15:27:05 -0500 (Mon, 03 Feb 2025) EndedAt: 2025-02-03 15:27:32 -0500 (Mon, 03 Feb 2025) EllapsedTime: 27.3 seconds RetCode: 0 Status: OK