Package: ScaledMatrix Version: 1.14.0 Command: /Library/Frameworks/R.framework/Resources/bin/R CMD check --install=check:ScaledMatrix.install-out.txt --library=/Library/Frameworks/R.framework/Resources/library --no-vignettes --timings ScaledMatrix_1.14.0.tar.gz StartedAt: 2025-02-05 08:46:50 -0500 (Wed, 05 Feb 2025) EndedAt: 2025-02-05 08:49:56 -0500 (Wed, 05 Feb 2025) EllapsedTime: 186.4 seconds RetCode: 0 Status: OK CheckDir: ScaledMatrix.Rcheck Warnings: 0