Package: ScaledMatrix Version: 1.14.0 Command: /home/biocbuild/R/R/bin/R CMD check --install=check:ScaledMatrix.install-out.txt --library=/home/biocbuild/R/R/site-library --no-vignettes --timings ScaledMatrix_1.14.0.tar.gz StartedAt: 2024-11-20 12:01:50 -0000 (Wed, 20 Nov 2024) EndedAt: 2024-11-20 12:05:34 -0000 (Wed, 20 Nov 2024) EllapsedTime: 224.4 seconds RetCode: 0 Status: OK CheckDir: ScaledMatrix.Rcheck Warnings: 0