Package: ScaledMatrix Version: 1.14.0 Command: rm -rf ScaledMatrix.buildbin-libdir && mkdir ScaledMatrix.buildbin-libdir && /Users/biocbuild/BBS/utils/build-universal.sh ScaledMatrix_1.14.0.tar.gz /Library/Frameworks/R.framework/Resources/bin/R ScaledMatrix.buildbin-libdir StartedAt: 2025-02-11 14:25:30 -0500 (Tue, 11 Feb 2025) EndedAt: 2025-02-11 14:26:27 -0500 (Tue, 11 Feb 2025) EllapsedTime: 57.8 seconds RetCode: 0 Status: OK PackageFile: ScaledMatrix_1.14.0.tgz PackageFileSize: 602.3 KiB