Package: ScaledMatrix Version: 1.14.0 Command: /Library/Frameworks/R.framework/Resources/bin/R CMD INSTALL ScaledMatrix StartedAt: 2025-02-03 15:19:52 -0500 (Mon, 03 Feb 2025) EndedAt: 2025-02-03 15:20:26 -0500 (Mon, 03 Feb 2025) EllapsedTime: 33.8 seconds RetCode: 0 Status: OK