Package: ScaledMatrix Version: 1.14.0 Command: /home/biocbuild/bbs-3.20-bioc/R/bin/R CMD INSTALL ScaledMatrix StartedAt: 2025-02-10 15:20:04 -0500 (Mon, 10 Feb 2025) EndedAt: 2025-02-10 15:20:21 -0500 (Mon, 10 Feb 2025) EllapsedTime: 16.8 seconds RetCode: 0 Status: OK