Package: ScaledMatrix Version: 1.14.0 Command: chmod a+r ScaledMatrix -R && F:\biocbuild\bbs-3.20-bioc\R\bin\R.exe CMD build --keep-empty-dirs --no-resave-data ScaledMatrix StartedAt: 2025-02-03 21:52:25 -0500 (Mon, 03 Feb 2025) EndedAt: 2025-02-03 21:55:27 -0500 (Mon, 03 Feb 2025) EllapsedTime: 182.2 seconds RetCode: 0 Status: OK PackageFile: ScaledMatrix_1.14.0.tar.gz PackageFileSize: 306.2 KiB