Package: ScaledMatrix Version: 1.14.0 Command: /home/biocbuild/R/R/bin/R CMD build --keep-empty-dirs --no-resave-data ScaledMatrix StartedAt: 2025-02-11 02:13:17 -0000 (Tue, 11 Feb 2025) EndedAt: 2025-02-11 02:15:31 -0000 (Tue, 11 Feb 2025) EllapsedTime: 134.1 seconds RetCode: 0 Status: OK PackageFile: ScaledMatrix_1.14.0.tar.gz PackageFileSize: 372.3 KiB