Package: ScaledMatrix Version: 1.14.0 Command: /home/biocbuild/R/R/bin/R CMD INSTALL ScaledMatrix StartedAt: 2025-02-03 20:29:18 -0000 (Mon, 03 Feb 2025) EndedAt: 2025-02-03 20:29:41 -0000 (Mon, 03 Feb 2025) EllapsedTime: 23.6 seconds RetCode: 0 Status: OK