Package: ScreenR Version: 1.8.0 Command: /Library/Frameworks/R.framework/Resources/bin/R CMD build --keep-empty-dirs --no-resave-data ScreenR StartedAt: 2025-02-04 07:51:45 -0500 (Tue, 04 Feb 2025) EndedAt: 2025-02-04 07:53:22 -0500 (Tue, 04 Feb 2025) EllapsedTime: 97.9 seconds RetCode: 0 Status: OK PackageFile: ScreenR_1.8.0.tar.gz PackageFileSize: 1.944 MiB