Package: ScreenR Version: 1.8.0 Command: /Library/Frameworks/R.framework/Resources/bin/R CMD build --keep-empty-dirs --no-resave-data ScreenR StartedAt: 2025-02-03 22:10:00 -0500 (Mon, 03 Feb 2025) EndedAt: 2025-02-03 22:13:05 -0500 (Mon, 03 Feb 2025) EllapsedTime: 185.6 seconds RetCode: 0 Status: OK PackageFile: ScreenR_1.8.0.tar.gz PackageFileSize: 1.94 MiB