Package: ScreenR Version: 1.8.0 Command: /home/biocbuild/bbs-3.20-bioc/R/bin/R CMD build --keep-empty-dirs --no-resave-data --md5 ScreenR StartedAt: 2025-02-03 19:14:05 -0500 (Mon, 03 Feb 2025) EndedAt: 2025-02-03 19:15:19 -0500 (Mon, 03 Feb 2025) EllapsedTime: 74.0 seconds RetCode: 0 Status: OK PackageFile: ScreenR_1.8.0.tar.gz PackageFileSize: 1.874 MiB