Package: ScreenR Version: 1.8.0 Command: /home/biocbuild/bbs-3.20-bioc/R/bin/R CMD INSTALL ScreenR StartedAt: 2025-02-03 15:19:11 -0500 (Mon, 03 Feb 2025) EndedAt: 2025-02-03 15:19:16 -0500 (Mon, 03 Feb 2025) EllapsedTime: 5.3 seconds RetCode: 0 Status: OK