Package: ScreenR Version: 1.8.0 Command: rm -rf ScreenR.buildbin-libdir && mkdir ScreenR.buildbin-libdir && F:\biocbuild\bbs-3.20-bioc\R\bin\R.exe CMD INSTALL --build --library=ScreenR.buildbin-libdir ScreenR_1.8.0.tar.gz StartedAt: 2025-02-04 09:28:52 -0500 (Tue, 04 Feb 2025) EndedAt: 2025-02-04 09:29:26 -0500 (Tue, 04 Feb 2025) EllapsedTime: 34.8 seconds RetCode: 0 Status: OK PackageFile: ScreenR_1.8.0.zip PackageFileSize: 1.8 MiB