Package: SeqArray Version: 1.46.2 Maintainer: Xiuwen Zheng MaintainerEmail: zhengx at u.washington.edu git_url: https://git.bioconductor.org/packages/SeqArray git_branch: RELEASE_3_20 git_last_commit: d971a98 git_last_commit_date: 2025-02-01 17:15:40 -0500 (Sat, 01 Feb 2025)