Package: SeqArray Version: 1.46.2 Command: rm -rf SeqArray.buildbin-libdir && mkdir SeqArray.buildbin-libdir && /Users/biocbuild/BBS/utils/build-universal.sh SeqArray_1.46.2.tar.gz /Library/Frameworks/R.framework/Resources/bin/R SeqArray.buildbin-libdir StartedAt: 2025-02-05 17:47:36 -0500 (Wed, 05 Feb 2025) EndedAt: 2025-02-05 17:48:22 -0500 (Wed, 05 Feb 2025) EllapsedTime: 45.9 seconds RetCode: 0 Status: OK PackageFile: SeqArray_1.46.2.tgz PackageFileSize: 4.147 MiB