Package: SeqArray Version: 1.46.2 Command: /Library/Frameworks/R.framework/Resources/bin/R CMD build --keep-empty-dirs --no-resave-data SeqArray StartedAt: 2025-02-11 07:59:41 -0500 (Tue, 11 Feb 2025) EndedAt: 2025-02-11 08:02:35 -0500 (Tue, 11 Feb 2025) EllapsedTime: 174.5 seconds RetCode: 0 Status: OK PackageFile: SeqArray_1.46.2.tar.gz PackageFileSize: 3.704 MiB