Package: SeqArray Version: 1.46.2 Command: /Library/Frameworks/R.framework/Resources/bin/R CMD check --install=check:SeqArray.install-out.txt --library=/Library/Frameworks/R.framework/Resources/library --no-vignettes --timings SeqArray_1.46.2.tar.gz StartedAt: 2025-02-12 09:14:24 -0500 (Wed, 12 Feb 2025) EndedAt: 2025-02-12 09:18:41 -0500 (Wed, 12 Feb 2025) EllapsedTime: 257.5 seconds RetCode: 0 Status: OK CheckDir: SeqArray.Rcheck Warnings: 0