Package: SeqArray Version: 1.46.2 Command: /Library/Frameworks/R.framework/Resources/bin/R CMD check --install=check:SeqArray.install-out.txt --library=/Library/Frameworks/R.framework/Resources/library --no-vignettes --timings SeqArray_1.46.2.tar.gz StartedAt: 2025-02-11 10:17:22 -0500 (Tue, 11 Feb 2025) EndedAt: 2025-02-11 10:24:04 -0500 (Tue, 11 Feb 2025) EllapsedTime: 401.5 seconds RetCode: 0 Status: OK CheckDir: SeqArray.Rcheck Warnings: 0