Package: SeqArray Version: 1.46.2 Command: /home/biocbuild/bbs-3.20-bioc/R/bin/R CMD build --keep-empty-dirs --no-resave-data --md5 SeqArray StartedAt: 2025-02-10 19:10:17 -0500 (Mon, 10 Feb 2025) EndedAt: 2025-02-10 19:12:23 -0500 (Mon, 10 Feb 2025) EllapsedTime: 126.1 seconds RetCode: 0 Status: OK PackageFile: SeqArray_1.46.2.tar.gz PackageFileSize: 3.658 MiB