Package: SeqArray Version: 1.46.2 Command: rm -rf SeqArray.buildbin-libdir && mkdir SeqArray.buildbin-libdir && F:\biocbuild\bbs-3.20-bioc\R\bin\R.exe CMD INSTALL --build --library=SeqArray.buildbin-libdir SeqArray_1.46.2.tar.gz StartedAt: 2025-02-11 09:28:02 -0500 (Tue, 11 Feb 2025) EndedAt: 2025-02-11 09:29:54 -0500 (Tue, 11 Feb 2025) EllapsedTime: 112.3 seconds RetCode: 0 Status: OK PackageFile: SeqArray_1.46.2.zip PackageFileSize: 3.494 MiB