Package: SeqArray Version: 1.46.2 Command: chmod a+r SeqArray -R && F:\biocbuild\bbs-3.20-bioc\R\bin\R.exe CMD build --keep-empty-dirs --no-resave-data SeqArray StartedAt: 2025-02-10 22:00:34 -0500 (Mon, 10 Feb 2025) EndedAt: 2025-02-10 22:05:18 -0500 (Mon, 10 Feb 2025) EllapsedTime: 284.5 seconds RetCode: 0 Status: OK PackageFile: SeqArray_1.46.2.tar.gz PackageFileSize: 2.967 MiB