Package: SeqArray Version: 1.46.2 Command: F:\biocbuild\bbs-3.20-bioc\R\bin\R.exe CMD check --no-multiarch --install=check:SeqArray.install-out.txt --library=F:\biocbuild\bbs-3.20-bioc\R\library --no-vignettes --timings SeqArray_1.46.2.tar.gz StartedAt: 2025-02-11 06:08:02 -0500 (Tue, 11 Feb 2025) EndedAt: 2025-02-11 06:11:00 -0500 (Tue, 11 Feb 2025) EllapsedTime: 177.6 seconds RetCode: 0 Status: OK CheckDir: SeqArray.Rcheck Warnings: 0