Package: SeqArray Version: 1.46.2 Command: F:\biocbuild\bbs-3.20-bioc\R\bin\R.exe CMD INSTALL SeqArray StartedAt: 2025-02-10 15:45:59 -0500 (Mon, 10 Feb 2025) EndedAt: 2025-02-10 15:47:39 -0500 (Mon, 10 Feb 2025) EllapsedTime: 99.9 seconds RetCode: 0 Status: OK