Package: SeqArray Version: 1.46.2 Command: /home/biocbuild/R/R/bin/R CMD build --keep-empty-dirs --no-resave-data SeqArray StartedAt: 2025-02-04 02:55:42 -0000 (Tue, 04 Feb 2025) EndedAt: 2025-02-04 02:58:48 -0000 (Tue, 04 Feb 2025) EllapsedTime: 186.4 seconds RetCode: 0 Status: OK PackageFile: SeqArray_1.46.2.tar.gz PackageFileSize: 3.214 MiB