Package: SeqArray Version: 1.46.2 Command: /home/biocbuild/R/R/bin/R CMD check --install=check:SeqArray.install-out.txt --library=/home/biocbuild/R/R/site-library --no-vignettes --timings SeqArray_1.46.2.tar.gz StartedAt: 2025-02-04 10:59:54 -0000 (Tue, 04 Feb 2025) EndedAt: 2025-02-04 11:03:48 -0000 (Tue, 04 Feb 2025) EllapsedTime: 233.3 seconds RetCode: 0 Status: OK CheckDir: SeqArray.Rcheck Warnings: 0