Package: SeqArray Version: 1.46.2 Command: /home/biocbuild/R/R/bin/R CMD INSTALL SeqArray StartedAt: 2025-02-03 20:29:45 -0000 (Mon, 03 Feb 2025) EndedAt: 2025-02-03 20:30:40 -0000 (Mon, 03 Feb 2025) EllapsedTime: 55.2 seconds RetCode: 0 Status: OK