Package: SeqGSEA Version: 1.46.0 Command: /Library/Frameworks/R.framework/Resources/bin/R CMD INSTALL SeqGSEA StartedAt: 2025-02-03 16:26:26 -0500 (Mon, 03 Feb 2025) EndedAt: 2025-02-03 16:27:04 -0500 (Mon, 03 Feb 2025) EllapsedTime: 38.2 seconds RetCode: 0 Status: OK