Package: SeqGSEA Version: 1.46.0 Command: rm -rf SeqGSEA.buildbin-libdir && mkdir SeqGSEA.buildbin-libdir && /Users/biocbuild/BBS/utils/build-universal.sh SeqGSEA_1.46.0.tar.gz /Library/Frameworks/R.framework/Resources/bin/R SeqGSEA.buildbin-libdir StartedAt: 2025-01-31 13:41:36 -0500 (Fri, 31 Jan 2025) EndedAt: 2025-01-31 13:42:52 -0500 (Fri, 31 Jan 2025) EllapsedTime: 76.2 seconds RetCode: 0 Status: OK PackageFile: SeqGSEA_1.46.0.tgz PackageFileSize: 2.082 MiB