Package: SeqGSEA Version: 1.46.0 Command: /Library/Frameworks/R.framework/Resources/bin/R CMD build --keep-empty-dirs --no-resave-data SeqGSEA StartedAt: 2025-02-03 22:17:14 -0500 (Mon, 03 Feb 2025) EndedAt: 2025-02-03 22:22:47 -0500 (Mon, 03 Feb 2025) EllapsedTime: 332.3 seconds RetCode: 0 Status: OK PackageFile: SeqGSEA_1.46.0.tar.gz PackageFileSize: 1.579 MiB