Package: SeqGSEA Version: 1.46.0 Command: /Library/Frameworks/R.framework/Resources/bin/R CMD INSTALL SeqGSEA StartedAt: 2025-02-10 15:47:47 -0500 (Mon, 10 Feb 2025) EndedAt: 2025-02-10 15:48:58 -0500 (Mon, 10 Feb 2025) EllapsedTime: 71.3 seconds RetCode: 0 Status: OK