Package: SeqGSEA Version: 1.46.0 Command: F:\biocbuild\bbs-3.20-bioc\R\bin\R.exe CMD check --no-multiarch --install=check:SeqGSEA.install-out.txt --library=F:\biocbuild\bbs-3.20-bioc\R\library --no-vignettes --timings SeqGSEA_1.46.0.tar.gz StartedAt: 2025-01-31 06:24:31 -0500 (Fri, 31 Jan 2025) EndedAt: 2025-01-31 06:31:27 -0500 (Fri, 31 Jan 2025) EllapsedTime: 415.4 seconds RetCode: 0 Status: OK CheckDir: SeqGSEA.Rcheck Warnings: 0